BEGIN:VCALENDAR
VERSION:2.0
PRODID:-//Washington State Senior Citizens&#039; Lobby - ECPv6.15.15//NONSGML v1.0//EN
CALSCALE:GREGORIAN
METHOD:PUBLISH
X-WR-CALNAME:Washington State Senior Citizens&#039; Lobby
X-ORIGINAL-URL:https://waseniorlobby.org
X-WR-CALDESC:Events for Washington State Senior Citizens&#039; Lobby
REFRESH-INTERVAL;VALUE=DURATION:PT1H
X-Robots-Tag:noindex
X-PUBLISHED-TTL:PT1H
BEGIN:VTIMEZONE
TZID:America/Los_Angeles
BEGIN:DAYLIGHT
TZOFFSETFROM:-0800
TZOFFSETTO:-0700
TZNAME:PDT
DTSTART:20220313T100000
END:DAYLIGHT
BEGIN:STANDARD
TZOFFSETFROM:-0700
TZOFFSETTO:-0800
TZNAME:PST
DTSTART:20221106T090000
END:STANDARD
BEGIN:DAYLIGHT
TZOFFSETFROM:-0800
TZOFFSETTO:-0700
TZNAME:PDT
DTSTART:20230312T100000
END:DAYLIGHT
BEGIN:STANDARD
TZOFFSETFROM:-0700
TZOFFSETTO:-0800
TZNAME:PST
DTSTART:20231105T090000
END:STANDARD
BEGIN:DAYLIGHT
TZOFFSETFROM:-0800
TZOFFSETTO:-0700
TZNAME:PDT
DTSTART:20240310T100000
END:DAYLIGHT
BEGIN:STANDARD
TZOFFSETFROM:-0700
TZOFFSETTO:-0800
TZNAME:PST
DTSTART:20241103T090000
END:STANDARD
END:VTIMEZONE
BEGIN:VEVENT
DTSTART;TZID=America/Los_Angeles:20230213T100000
DTEND;TZID=America/Los_Angeles:20230213T120000
DTSTAMP:20260419T171207
CREATED:20221115T194803Z
LAST-MODIFIED:20221115T203644Z
UID:6922-1676282400-1676289600@waseniorlobby.org
SUMMARY:Monthly Meeting Senior Lobby
DESCRIPTION:
URL:https://waseniorlobby.org/event/monthly-senior-lobby-meeting-3/
LOCATION:Virtual meeting
END:VEVENT
BEGIN:VEVENT
DTSTART;TZID=America/Los_Angeles:20230223T083000
DTEND;TZID=America/Los_Angeles:20230223T113000
DTSTAMP:20260419T171207
CREATED:20230206T233826Z
LAST-MODIFIED:20230206T233826Z
UID:7033-1677141000-1677151800@waseniorlobby.org
SUMMARY:2023 Senior Lobby Day
DESCRIPTION:  Thursday February 23\, 2023 \n                8:30 – 11:30 \n                Lobby Day will be held by Zoom \n Members will be responsible for making their own Legislative appointments.
URL:https://waseniorlobby.org/event/2023-senior-lobby-day/
ORGANIZER;CN="Karen Bowen":MAILTO:info@waseniorlobby.org
END:VEVENT
END:VCALENDAR